BEGIN:VCALENDAR
VERSION:2.0
PRODID:-//Église Unie de la Grace United Church - ECPv5.16.4//NONSGML v1.0//EN
CALSCALE:GREGORIAN
METHOD:PUBLISH
X-WR-CALNAME:Église Unie de la Grace United Church
X-ORIGINAL-URL:http://www.eglise-grace-church.ca
X-WR-CALDESC:Events for Église Unie de la Grace United Church
BEGIN:VTIMEZONE
TZID:UTC
BEGIN:STANDARD
TZOFFSETFROM:+0000
TZOFFSETTO:+0000
TZNAME:UTC
DTSTART:20200101T000000
END:STANDARD
END:VTIMEZONE
BEGIN:VEVENT
DTSTART;TZID=UTC:20201206T100000
DTEND;TZID=UTC:20201206T110000
DTSTAMP:20260424T022437
CREATED:20201215T222046Z
LAST-MODIFIED:20201215T222245Z
UID:3963-1607248800-1607252400@www.eglise-grace-church.ca
SUMMARY:Advent Two
DESCRIPTION:Worship at 10 am as we light the candle of peace. Zoom and Facebook \nSunday Worship \nWorship will be at 10 am via Zoom and Facebook Live. \nOn Zoom (by smartphone app\, tablet app or computer): \nThe link is: https://us02web.zoom.us/j/81690970107?pwd=dXgvSW9seDF1WmN5S0NSV3pMMTdoZz09 \nOr you can use this meeting ID: 816 9097 0107.\nThe password is grace . \nOn the phone \nYou can dial 1-438-809-7799. The meeting ID is 816 9097 0107. The passcode is 519393.
URL:http://www.eglise-grace-church.ca/event/advent-two/
END:VEVENT
END:VCALENDAR