BEGIN:VCALENDAR
VERSION:2.0
PRODID:-//Église Unie de la Grace United Church - ECPv5.16.4//NONSGML v1.0//EN
CALSCALE:GREGORIAN
METHOD:PUBLISH
X-WR-CALNAME:Église Unie de la Grace United Church
X-ORIGINAL-URL:http://www.eglise-grace-church.ca/?lang=fr
X-WR-CALDESC:évènements pour Église Unie de la Grace United Church
BEGIN:VTIMEZONE
TZID:UTC
BEGIN:STANDARD
TZOFFSETFROM:+0000
TZOFFSETTO:+0000
TZNAME:UTC
DTSTART:20200101T000000
END:STANDARD
END:VTIMEZONE
BEGIN:VEVENT
DTSTART;TZID=UTC:20200419T100000
DTEND;TZID=UTC:20200419T110000
DTSTAMP:20260424T153117
CREATED:20200224T180144Z
LAST-MODIFIED:20200224T180144Z
UID:3731-1587290400-1587294000@www.eglise-grace-church.ca
SUMMARY:Annual Meeting Sunday
DESCRIPTION:
URL:http://www.eglise-grace-church.ca/event/annual-meeting-sunday/?lang=fr
END:VEVENT
END:VCALENDAR