BEGIN:VCALENDAR
VERSION:2.0
PRODID:-//Église Unie de la Grace United Church - ECPv5.16.4//NONSGML v1.0//EN
CALSCALE:GREGORIAN
METHOD:PUBLISH
X-WR-CALNAME:Église Unie de la Grace United Church
X-ORIGINAL-URL:http://www.eglise-grace-church.ca
X-WR-CALDESC:Events for Église Unie de la Grace United Church
BEGIN:VTIMEZONE
TZID:UTC
BEGIN:STANDARD
TZOFFSETFROM:+0000
TZOFFSETTO:+0000
TZNAME:UTC
DTSTART:20200101T000000
END:STANDARD
END:VTIMEZONE
BEGIN:VEVENT
DTSTART;TZID=UTC:20200321T093000
DTEND;TZID=UTC:20200321T103000
DTSTAMP:20260424T023712
CREATED:20200226T154049Z
LAST-MODIFIED:20200226T154049Z
UID:3734-1584783000-1584786600@www.eglise-grace-church.ca
SUMMARY:Book Club @ Tulip Valley Restaurant
DESCRIPTION:The Book Club will be reading “Educated\,” a memoir by Tara Westover. We will be meeting on Saturday March 21 at 9:30 am\, in Tulip Valley Restaurant. New folks are always welcome!
URL:http://www.eglise-grace-church.ca/event/book-club-tulip-valley-restaurant/
END:VEVENT
END:VCALENDAR