BEGIN:VCALENDAR
VERSION:2.0
PRODID:-//Église Unie de la Grace United Church - ECPv5.16.4//NONSGML v1.0//EN
CALSCALE:GREGORIAN
METHOD:PUBLISH
X-WR-CALNAME:Église Unie de la Grace United Church
X-ORIGINAL-URL:http://www.eglise-grace-church.ca
X-WR-CALDESC:Events for Église Unie de la Grace United Church
BEGIN:VTIMEZONE
TZID:UTC
BEGIN:STANDARD
TZOFFSETFROM:+0000
TZOFFSETTO:+0000
TZNAME:UTC
DTSTART:20190101T000000
END:STANDARD
END:VTIMEZONE
BEGIN:VEVENT
DTSTART;TZID=UTC:20190819T080000
DTEND;TZID=UTC:20190823T150000
DTSTAMP:20260424T023823
CREATED:20190813T184952Z
LAST-MODIFIED:20190813T184952Z
UID:3348-1566201600-1566572400@www.eglise-grace-church.ca
SUMMARY:Camp Awesome
DESCRIPTION:Bilingual summer camp for ages 4-12! \nCamp Awesome is a fun\, safe\, caring camp environment. \nActivities include Bible stories\, kid-friendly worship\, crafts\, games and more! There will be lots of time for play. \nThis is collaboration between Grace United Church and St. Mary Magdalene Church. It will be offered in Chelsea.
URL:http://www.eglise-grace-church.ca/event/camp-awesome/
END:VEVENT
END:VCALENDAR