BEGIN:VCALENDAR
VERSION:2.0
PRODID:-//Église Unie de la Grace United Church - ECPv5.16.4//NONSGML v1.0//EN
CALSCALE:GREGORIAN
METHOD:PUBLISH
X-WR-CALNAME:Église Unie de la Grace United Church
X-ORIGINAL-URL:http://www.eglise-grace-church.ca
X-WR-CALDESC:Events for Église Unie de la Grace United Church
BEGIN:VTIMEZONE
TZID:UTC
BEGIN:STANDARD
TZOFFSETFROM:+0000
TZOFFSETTO:+0000
TZNAME:UTC
DTSTART:20190101T000000
END:STANDARD
END:VTIMEZONE
BEGIN:VEVENT
DTSTART;TZID=UTC:20191208T100000
DTEND;TZID=UTC:20191208T110000
DTSTAMP:20260424T023750
CREATED:20191129T130015Z
LAST-MODIFIED:20191129T130015Z
UID:3635-1575799200-1575802800@www.eglise-grace-church.ca
SUMMARY:Celebrating Communion
DESCRIPTION:Celebrating Communion on December 8th \nWe will be celebrating Communion on Sunday December 8th. Please spread the word and come to share in this sacrament.
URL:http://www.eglise-grace-church.ca/event/celebrating-communion/
LOCATION:Chelsea Location of Grace\, 8 Mill Road\, Chelsea\, Quebec\, J0X3G0\, Canada
END:VEVENT
END:VCALENDAR