BEGIN:VCALENDAR
VERSION:2.0
PRODID:-//Église Unie de la Grace United Church - ECPv5.16.4//NONSGML v1.0//EN
CALSCALE:GREGORIAN
METHOD:PUBLISH
X-WR-CALNAME:Église Unie de la Grace United Church
X-ORIGINAL-URL:http://www.eglise-grace-church.ca/?lang=fr
X-WR-CALDESC:évènements pour Église Unie de la Grace United Church
BEGIN:VTIMEZONE
TZID:UTC
BEGIN:STANDARD
TZOFFSETFROM:+0000
TZOFFSETTO:+0000
TZNAME:UTC
DTSTART:20180101T000000
END:STANDARD
END:VTIMEZONE
BEGIN:VEVENT
DTSTART;TZID=UTC:20181224T080000
DTEND;TZID=UTC:20181224T170000
DTSTAMP:20260425T114332
CREATED:20181129T014208Z
LAST-MODIFIED:20181129T014208Z
UID:1480-1545638400-1545670800@www.eglise-grace-church.ca
SUMMARY:Christmas eve!
DESCRIPTION:
URL:http://www.eglise-grace-church.ca/event/christmas-eve/?lang=fr
LOCATION:Grace United Church
END:VEVENT
END:VCALENDAR