BEGIN:VCALENDAR
VERSION:2.0
PRODID:-//Église Unie de la Grace United Church - ECPv5.16.4//NONSGML v1.0//EN
CALSCALE:GREGORIAN
METHOD:PUBLISH
X-WR-CALNAME:Église Unie de la Grace United Church
X-ORIGINAL-URL:http://www.eglise-grace-church.ca/?lang=fr
X-WR-CALDESC:évènements pour Église Unie de la Grace United Church
BEGIN:VTIMEZONE
TZID:UTC
BEGIN:STANDARD
TZOFFSETFROM:+0000
TZOFFSETTO:+0000
TZNAME:UTC
DTSTART:20190101T000000
END:STANDARD
END:VTIMEZONE
BEGIN:VEVENT
DTSTART;VALUE=DATE:20191229
DTEND;VALUE=DATE:20191230
DTSTAMP:20260424T202616
CREATED:20191127T161339Z
LAST-MODIFIED:20191127T161339Z
UID:3631-1577577600-1577663999@www.eglise-grace-church.ca
SUMMARY:Church Service Cancelled
DESCRIPTION:Please note that there will not be a church service on December 29th.
URL:http://www.eglise-grace-church.ca/event/church-service-cancelled/?lang=fr
LOCATION:Grace United Church
END:VEVENT
END:VCALENDAR