BEGIN:VCALENDAR
VERSION:2.0
PRODID:-//Église Unie de la Grace United Church - ECPv5.16.4//NONSGML v1.0//EN
CALSCALE:GREGORIAN
METHOD:PUBLISH
X-WR-CALNAME:Église Unie de la Grace United Church
X-ORIGINAL-URL:http://www.eglise-grace-church.ca
X-WR-CALDESC:Events for Église Unie de la Grace United Church
BEGIN:VTIMEZONE
TZID:UTC
BEGIN:STANDARD
TZOFFSETFROM:+0000
TZOFFSETTO:+0000
TZNAME:UTC
DTSTART:20180101T000000
END:STANDARD
END:VTIMEZONE
BEGIN:VEVENT
DTSTART;TZID=UTC:20181206T080000
DTEND;TZID=UTC:20181206T170000
DTSTAMP:20260425T113551
CREATED:20181206T174247Z
LAST-MODIFIED:20181206T174247Z
UID:2437-1544083200-1544115600@www.eglise-grace-church.ca
SUMMARY:d
DESCRIPTION:d
URL:http://www.eglise-grace-church.ca/event/d/
END:VEVENT
END:VCALENDAR