BEGIN:VCALENDAR
VERSION:2.0
PRODID:-//Église Unie de la Grace United Church - ECPv5.16.4//NONSGML v1.0//EN
CALSCALE:GREGORIAN
METHOD:PUBLISH
X-WR-CALNAME:Église Unie de la Grace United Church
X-ORIGINAL-URL:http://www.eglise-grace-church.ca
X-WR-CALDESC:Events for Église Unie de la Grace United Church
BEGIN:VTIMEZONE
TZID:UTC
BEGIN:STANDARD
TZOFFSETFROM:+0000
TZOFFSETTO:+0000
TZNAME:UTC
DTSTART:20200101T000000
END:STANDARD
END:VTIMEZONE
BEGIN:VEVENT
DTSTART;TZID=UTC:20200412T100000
DTEND;TZID=UTC:20200412T110000
DTSTAMP:20260424T023708
CREATED:20200224T180102Z
LAST-MODIFIED:20200224T180102Z
UID:3729-1586685600-1586689200@www.eglise-grace-church.ca
SUMMARY:Easter Sunday
DESCRIPTION:
URL:http://www.eglise-grace-church.ca/event/easter-sunday/
END:VEVENT
END:VCALENDAR