BEGIN:VCALENDAR
VERSION:2.0
PRODID:-//Église Unie de la Grace United Church - ECPv5.16.4//NONSGML v1.0//EN
CALSCALE:GREGORIAN
METHOD:PUBLISH
X-WR-CALNAME:Église Unie de la Grace United Church
X-ORIGINAL-URL:http://www.eglise-grace-church.ca
X-WR-CALDESC:Events for Église Unie de la Grace United Church
BEGIN:VTIMEZONE
TZID:UTC
BEGIN:STANDARD
TZOFFSETFROM:+0000
TZOFFSETTO:+0000
TZNAME:UTC
DTSTART:20200101T000000
END:STANDARD
END:VTIMEZONE
BEGIN:VEVENT
DTSTART;TZID=UTC:20200322T100000
DTEND;TZID=UTC:20200322T110000
DTSTAMP:20260424T023740
CREATED:20200224T175352Z
LAST-MODIFIED:20200224T175454Z
UID:3715-1584871200-1584874800@www.eglise-grace-church.ca
SUMMARY:Fourth Sunday of Lent. We share Communion. We will be collecting food for the Wakefield Food Pantry.
DESCRIPTION:Fourth Sunday of Lent. We share Communion. We will also be collecting food for the Wakefield Food Pantry.
URL:http://www.eglise-grace-church.ca/event/fourth-sunday-of-lent-we-share-communion-we-will-be-collecting-food-for-the-wakefield-food-pantry/
END:VEVENT
END:VCALENDAR