BEGIN:VCALENDAR
VERSION:2.0
PRODID:-//Église Unie de la Grace United Church - ECPv5.16.4//NONSGML v1.0//EN
CALSCALE:GREGORIAN
METHOD:PUBLISH
X-WR-CALNAME:Église Unie de la Grace United Church
X-ORIGINAL-URL:http://www.eglise-grace-church.ca/?lang=fr
X-WR-CALDESC:évènements pour Église Unie de la Grace United Church
BEGIN:VTIMEZONE
TZID:UTC
BEGIN:STANDARD
TZOFFSETFROM:+0000
TZOFFSETTO:+0000
TZNAME:UTC
DTSTART:20180101T000000
END:STANDARD
END:VTIMEZONE
BEGIN:VEVENT
DTSTART;TZID=UTC:20181121T080000
DTEND;TZID=UTC:20181121T170000
DTSTAMP:20260425T160106
CREATED:20181120T155407Z
LAST-MODIFIED:20181120T155528Z
UID:948-1542787200-1542819600@www.eglise-grace-church.ca
SUMMARY:Garage Sale
DESCRIPTION:Lorem Text
URL:http://www.eglise-grace-church.ca/event/garage-sale/?lang=fr
END:VEVENT
END:VCALENDAR