BEGIN:VCALENDAR
VERSION:2.0
PRODID:-//Église Unie de la Grace United Church - ECPv5.16.4//NONSGML v1.0//EN
CALSCALE:GREGORIAN
METHOD:PUBLISH
X-WR-CALNAME:Église Unie de la Grace United Church
X-ORIGINAL-URL:http://www.eglise-grace-church.ca
X-WR-CALDESC:Events for Église Unie de la Grace United Church
BEGIN:VTIMEZONE
TZID:UTC
BEGIN:STANDARD
TZOFFSETFROM:+0000
TZOFFSETTO:+0000
TZNAME:UTC
DTSTART:20200101T000000
END:STANDARD
END:VTIMEZONE
BEGIN:VEVENT
DTSTART;TZID=UTC:20200410T100000
DTEND;TZID=UTC:20200410T110000
DTSTAMP:20260424T023729
CREATED:20200224T180023Z
LAST-MODIFIED:20200224T180023Z
UID:3727-1586512800-1586516400@www.eglise-grace-church.ca
SUMMARY:Good Friday Service @ 10 a.m.
DESCRIPTION:
URL:http://www.eglise-grace-church.ca/event/good-friday-service-10-a-m/
LOCATION:Chelsea Location of Grace\, 8 Mill Road\, Chelsea\, Quebec\, J0X3G0\, Canada
END:VEVENT
END:VCALENDAR