BEGIN:VCALENDAR
VERSION:2.0
PRODID:-//Église Unie de la Grace United Church - ECPv5.16.4//NONSGML v1.0//EN
CALSCALE:GREGORIAN
METHOD:PUBLISH
X-WR-CALNAME:Église Unie de la Grace United Church
X-ORIGINAL-URL:http://www.eglise-grace-church.ca/?lang=fr
X-WR-CALDESC:évènements pour Église Unie de la Grace United Church
BEGIN:VTIMEZONE
TZID:UTC
BEGIN:STANDARD
TZOFFSETFROM:+0000
TZOFFSETTO:+0000
TZNAME:UTC
DTSTART:20190101T000000
END:STANDARD
END:VTIMEZONE
BEGIN:VEVENT
DTSTART;TZID=UTC:20191103T100000
DTEND;TZID=UTC:20191103T130000
DTSTAMP:20260424T230846
CREATED:20190915T193110Z
LAST-MODIFIED:20190915T193126Z
UID:3608-1572775200-1572786000@www.eglise-grace-church.ca
SUMMARY:Grace's Third Birthday!
DESCRIPTION:Grace United Church is three years old! Come to share in the celebration. All are welcome! At 10 am\, we will have a special worship service. This will be followed by a potluck lunch (we’ll provide the cake!) and a congregational meeting.
URL:http://www.eglise-grace-church.ca/event/graces-third-birthday/?lang=fr
LOCATION:Chelsea Location of Grace\, 8 Mill Road\, Chelsea\, Quebec\, J0X3G0\, Canada
END:VEVENT
END:VCALENDAR