BEGIN:VCALENDAR
VERSION:2.0
PRODID:-//Église Unie de la Grace United Church - ECPv5.16.4//NONSGML v1.0//EN
CALSCALE:GREGORIAN
METHOD:PUBLISH
X-WR-CALNAME:Église Unie de la Grace United Church
X-ORIGINAL-URL:http://www.eglise-grace-church.ca
X-WR-CALDESC:Events for Église Unie de la Grace United Church
BEGIN:VTIMEZONE
TZID:UTC
BEGIN:STANDARD
TZOFFSETFROM:+0000
TZOFFSETTO:+0000
TZNAME:UTC
DTSTART:20200101T000000
END:STANDARD
END:VTIMEZONE
BEGIN:VEVENT
DTSTART;TZID=UTC:20200314T063000
DTEND;TZID=UTC:20200314T203000
DTSTAMP:20260424T023740
CREATED:20200220T222259Z
LAST-MODIFIED:20200220T222259Z
UID:3705-1584167400-1584217800@www.eglise-grace-church.ca
SUMMARY:National Affirming / PIE Day
DESCRIPTION:Doors open at 6:30 p.m. \nWe will be watching a movie “Love Simon” and eating Pie. \nAdmission is by donation with all proceeds supporting “Rainbow Camp” for teens. \nMovie will start at 7 p.m.
URL:http://www.eglise-grace-church.ca/event/national-affirming-pie-day/
END:VEVENT
END:VCALENDAR