BEGIN:VCALENDAR
VERSION:2.0
PRODID:-//Église Unie de la Grace United Church - ECPv5.16.4//NONSGML v1.0//EN
CALSCALE:GREGORIAN
METHOD:PUBLISH
X-WR-CALNAME:Église Unie de la Grace United Church
X-ORIGINAL-URL:http://www.eglise-grace-church.ca
X-WR-CALDESC:Events for Église Unie de la Grace United Church
BEGIN:VTIMEZONE
TZID:UTC
BEGIN:STANDARD
TZOFFSETFROM:+0000
TZOFFSETTO:+0000
TZNAME:UTC
DTSTART:20200101T000000
END:STANDARD
END:VTIMEZONE
BEGIN:VEVENT
DTSTART;TZID=UTC:20200405T100000
DTEND;TZID=UTC:20200405T110000
DTSTAMP:20260424T023657
CREATED:20200224T175637Z
LAST-MODIFIED:20200224T180313Z
UID:3721-1586080800-1586084400@www.eglise-grace-church.ca
SUMMARY:Palm Sunday
DESCRIPTION:
URL:http://www.eglise-grace-church.ca/event/palm-sunday-morning/
END:VEVENT
END:VCALENDAR