BEGIN:VCALENDAR
VERSION:2.0
PRODID:-//Église Unie de la Grace United Church - ECPv5.16.4//NONSGML v1.0//EN
CALSCALE:GREGORIAN
METHOD:PUBLISH
X-WR-CALNAME:Église Unie de la Grace United Church
X-ORIGINAL-URL:http://www.eglise-grace-church.ca
X-WR-CALDESC:Events for Église Unie de la Grace United Church
BEGIN:VTIMEZONE
TZID:UTC
BEGIN:STANDARD
TZOFFSETFROM:+0000
TZOFFSETTO:+0000
TZNAME:UTC
DTSTART:20200101T000000
END:STANDARD
END:VTIMEZONE
BEGIN:VEVENT
DTSTART;TZID=UTC:20200225T080000
DTEND;TZID=UTC:20200225T080000
DTSTAMP:20260424T023722
CREATED:20200220T221713Z
LAST-MODIFIED:20200220T221844Z
UID:3700-1582617600-1582617600@www.eglise-grace-church.ca
SUMMARY:Pancake Tuesday
DESCRIPTION:1. The Rupert Youth Welfare Association is making a yummy pancake supper! 5-7 p.m. 24 Shouldice Road\, Rupert\n2. Aylmer United Church is also celebrating Pancake Tuesday Feb 25th 5-7 p.m.
URL:http://www.eglise-grace-church.ca/event/pancake-tuesday/
END:VEVENT
END:VCALENDAR