BEGIN:VCALENDAR
VERSION:2.0
PRODID:-//Église Unie de la Grace United Church - ECPv5.16.4//NONSGML v1.0//EN
CALSCALE:GREGORIAN
METHOD:PUBLISH
X-WR-CALNAME:Église Unie de la Grace United Church
X-ORIGINAL-URL:http://www.eglise-grace-church.ca
X-WR-CALDESC:Events for Église Unie de la Grace United Church
BEGIN:VTIMEZONE
TZID:UTC
BEGIN:STANDARD
TZOFFSETFROM:+0000
TZOFFSETTO:+0000
TZNAME:UTC
DTSTART:20200101T000000
END:STANDARD
END:VTIMEZONE
BEGIN:VEVENT
DTSTART;TZID=UTC:20200308T100000
DTEND;TZID=UTC:20200308T110000
DTSTAMP:20260419T094950
CREATED:20200224T174910Z
LAST-MODIFIED:20200224T175136Z
UID:3709-1583661600-1583665200@www.eglise-grace-church.ca
SUMMARY:Second Sunday of Lent and Lent Group Starts
DESCRIPTION:Second Day of Lent and Lent Group Starts. Also please note the Time Change.
URL:http://www.eglise-grace-church.ca/event/second-day-of-lent-and-lent-group-starts/
END:VEVENT
END:VCALENDAR