BEGIN:VCALENDAR
VERSION:2.0
PRODID:-//Église Unie de la Grace United Church - ECPv5.16.4//NONSGML v1.0//EN
CALSCALE:GREGORIAN
METHOD:PUBLISH
X-WR-CALNAME:Église Unie de la Grace United Church
X-ORIGINAL-URL:http://www.eglise-grace-church.ca
X-WR-CALDESC:Events for Église Unie de la Grace United Church
BEGIN:VTIMEZONE
TZID:UTC
BEGIN:STANDARD
TZOFFSETFROM:+0000
TZOFFSETTO:+0000
TZNAME:UTC
DTSTART:20180101T000000
END:STANDARD
END:VTIMEZONE
BEGIN:VEVENT
DTSTART;TZID=UTC:20181130T080000
DTEND;TZID=UTC:20181130T170000
DTSTAMP:20260425T125906
CREATED:20181120T155613Z
LAST-MODIFIED:20181129T014740Z
UID:950-1543564800-1543597200@www.eglise-grace-church.ca
SUMMARY:Sermon
DESCRIPTION:
URL:http://www.eglise-grace-church.ca/event/sermon-sunday/
LOCATION:Grace United Church
END:VEVENT
END:VCALENDAR