BEGIN:VCALENDAR
VERSION:2.0
PRODID:-//Église Unie de la Grace United Church - ECPv5.16.4//NONSGML v1.0//EN
CALSCALE:GREGORIAN
METHOD:PUBLISH
X-WR-CALNAME:Église Unie de la Grace United Church
X-ORIGINAL-URL:http://www.eglise-grace-church.ca
X-WR-CALDESC:Events for Église Unie de la Grace United Church
BEGIN:VTIMEZONE
TZID:UTC
BEGIN:STANDARD
TZOFFSETFROM:+0000
TZOFFSETTO:+0000
TZNAME:UTC
DTSTART:20190101T000000
END:STANDARD
END:VTIMEZONE
BEGIN:VEVENT
DTSTART;TZID=UTC:20190818T100000
DTEND;TZID=UTC:20190818T110000
DTSTAMP:20260424T023851
CREATED:20190813T183559Z
LAST-MODIFIED:20190813T183559Z
UID:3334-1566122400-1566126000@www.eglise-grace-church.ca
SUMMARY:Sunday Worship
DESCRIPTION:Worship is a time of songs\, prayers\, Bible reading and reflection. \nA coffee hour usually follows the service. \nAll are welcome at Grace United Church!
URL:http://www.eglise-grace-church.ca/event/sunday-worship-10/
LOCATION:Rupert location of Grace United Church\, 646 chemin des érables\, Rupert\, la Pêche\, Quebec\, Canada
END:VEVENT
END:VCALENDAR