BEGIN:VCALENDAR
VERSION:2.0
PRODID:-//Église Unie de la Grace United Church - ECPv5.16.4//NONSGML v1.0//EN
CALSCALE:GREGORIAN
METHOD:PUBLISH
X-WR-CALNAME:Église Unie de la Grace United Church
X-ORIGINAL-URL:http://www.eglise-grace-church.ca/?lang=fr
X-WR-CALDESC:évènements pour Église Unie de la Grace United Church
BEGIN:VTIMEZONE
TZID:UTC
BEGIN:STANDARD
TZOFFSETFROM:+0000
TZOFFSETTO:+0000
TZNAME:UTC
DTSTART:20190101T000000
END:STANDARD
END:VTIMEZONE
BEGIN:VEVENT
DTSTART;TZID=UTC:20190801T080000
DTEND;TZID=UTC:20190801T170000
DTSTAMP:20260423T161413
CREATED:20190731T172426Z
LAST-MODIFIED:20190731T172426Z
UID:3313-1564646400-1564678800@www.eglise-grace-church.ca
SUMMARY:Test
DESCRIPTION:Test
URL:http://www.eglise-grace-church.ca/event/test/?lang=fr
LOCATION:Rupert location of Grace United Church\, 646 chemin des érables\, Rupert\, la Pêche\, Quebec\, Canada
END:VEVENT
END:VCALENDAR