BEGIN:VCALENDAR
VERSION:2.0
PRODID:-//Église Unie de la Grace United Church - ECPv5.16.4//NONSGML v1.0//EN
CALSCALE:GREGORIAN
METHOD:PUBLISH
X-WR-CALNAME:Église Unie de la Grace United Church
X-ORIGINAL-URL:http://www.eglise-grace-church.ca/?lang=fr
X-WR-CALDESC:évènements pour Église Unie de la Grace United Church
BEGIN:VTIMEZONE
TZID:UTC
BEGIN:STANDARD
TZOFFSETFROM:+0000
TZOFFSETTO:+0000
TZNAME:UTC
DTSTART:20190101T000000
END:STANDARD
END:VTIMEZONE
BEGIN:VEVENT
DTSTART;TZID=UTC:20191027T100000
DTEND;TZID=UTC:20191027T110000
DTSTAMP:20260425T005337
CREATED:20190915T192930Z
LAST-MODIFIED:20190915T192930Z
UID:3606-1572170400-1572174000@www.eglise-grace-church.ca
SUMMARY:Worship and Sunday School
DESCRIPTION:Join us at 10 am! 8 Mill Road\, Chelsea
URL:http://www.eglise-grace-church.ca/event/worship-and-sunday-school-2/?lang=fr
LOCATION:Chelsea Location of Grace\, 8 Mill Road\, Chelsea\, Quebec\, J0X3G0\, Canada
END:VEVENT
END:VCALENDAR