BEGIN:VCALENDAR
VERSION:2.0
PRODID:-//Église Unie de la Grace United Church - ECPv5.16.4//NONSGML v1.0//EN
CALSCALE:GREGORIAN
METHOD:PUBLISH
X-WR-CALNAME:Église Unie de la Grace United Church
X-ORIGINAL-URL:http://www.eglise-grace-church.ca
X-WR-CALDESC:Events for Église Unie de la Grace United Church
BEGIN:VTIMEZONE
TZID:UTC
BEGIN:STANDARD
TZOFFSETFROM:+0000
TZOFFSETTO:+0000
TZNAME:UTC
DTSTART:20190101T000000
END:STANDARD
END:VTIMEZONE
BEGIN:VEVENT
DTSTART;TZID=UTC:20191201T100000
DTEND;TZID=UTC:20191201T110000
DTSTAMP:20260421T072436
CREATED:20191127T153553Z
LAST-MODIFIED:20191127T160405Z
UID:3613-1575194400-1575198000@www.eglise-grace-church.ca
SUMMARY:Wreath Making
DESCRIPTION:An Annual Tradition continues: Wreath Making! This will be on Sunday\, December 1st at Grace United Church’s Chelsea Location (8 Mill Road) \nPlease join us at 10 a.m. for Advent worship and songs. This will be followed by plenty of time to make a wreath for your home or the home of a loved one. \nThere will be no Sunday School\, but childcare is available for little ones who are less interested in wreaths. \nThere is no cost to the wreaths\, but donations are always welcome.
URL:http://www.eglise-grace-church.ca/event/wreath-making/
LOCATION:Chelsea Location of Grace\, 8 Mill Road\, Chelsea\, Quebec\, J0X3G0\, Canada
END:VEVENT
END:VCALENDAR